BEGIN:VCALENDAR
VERSION:2.0
PRODID:GIGPRESS 2.0 WORDPRESS PLUGIN
CALSCALE:GREGORIAN
X-WR-TIMEZONE:Etc/GMT
METHOD:PUBLISH
BEGIN:VTIMEZONE
TZID:GMT
BEGIN:STANDARD
DTSTART:20071028T010000
TZOFFSETTO:+0000
TZOFFSETFROM:+0000
END:STANDARD
END:VTIMEZONE
BEGIN:VEVENT
SUMMARY:Rencontres de boîtes à So Festival
DESCRIPTION:Notes: So Festival Grand Bretagne
LOCATION:So Festival\, Skegness\, GB
UID:20260612T163000Z-2088-hugo.mauk@gmail.com
URL:https://www.kumulus.fr
DTSTART;VALUE=DATE-TIME;TZID=GMT:20260612T163000Z
DTEND;VALUE=DATE-TIME;TZID=GMT:20260612T163000Z
DTSTAMP:20260421T033254Z
END:VEVENT
END:VCALENDAR