BEGIN:VCALENDAR
VERSION:2.0
X-WR-CALNAME: Qui a tué mon père
PRODID:GIGPRESS 2.0 WORDPRESS PLUGIN
CALSCALE:GREGORIAN
X-WR-TIMEZONE:Etc/GMT
METHOD:PUBLISH
BEGIN:VTIMEZONE
TZID:GMT
BEGIN:STANDARD
DTSTART:20071028T010000
TZOFFSETTO:+0000
TZOFFSETFROM:+0000
END:STANDARD
END:VTIMEZONE
BEGIN:VEVENT
SUMMARY:Qui a tué mon père à Festival Les Turbulentes
DESCRIPTION:Notes: Festival Les Turbulentes France
LOCATION:Festival Les Turbulentes\, Vieux-Condé\, FR
UID:20260501T201500Z-2091-hugo.mauk@gmail.com
URL:https://www.kumulus.fr
DTSTART;VALUE=DATE-TIME;TZID=GMT:20260501T201500Z
DTEND;VALUE=DATE-TIME;TZID=GMT:20260501T201500Z
DTSTAMP:20260420T045739Z
END:VEVENT
BEGIN:VEVENT
SUMMARY:Qui a tué mon père à Festival Les Turbulentes
DESCRIPTION:Notes: Festival les Turbulentes France
LOCATION:Festival Les Turbulentes\, Vieux-Condé\, FR
UID:20260502T194500Z-2090-hugo.mauk@gmail.com
URL:https://www.kumulus.fr
DTSTART;VALUE=DATE-TIME;TZID=GMT:20260502T194500Z
DTEND;VALUE=DATE-TIME;TZID=GMT:20260502T194500Z
DTSTAMP:20260420T045739Z
END:VEVENT
BEGIN:VEVENT
SUMMARY:Qui a tué mon père à Festival De Jour // De Nuit
DESCRIPTION:Notes: Festival De Jour // De Nuit France
LOCATION:Festival De Jour // De Nuit\, Saint Germain les Arpavon\, FR
UID:20260524T200000Z-2089-hugo.mauk@gmail.com
URL:https://www.kumulus.fr
DTSTART;VALUE=DATE-TIME;TZID=GMT:20260524T200000Z
DTEND;VALUE=DATE-TIME;TZID=GMT:20260524T200000Z
DTSTAMP:20260420T045739Z
END:VEVENT
BEGIN:VEVENT
SUMMARY:Qui a tué mon père à Festival  Saint-Amand fait son intéressant 
DESCRIPTION:Notes: Festival  Saint-Amand fait son intéressant  France
LOCATION:Festival  Saint-Amand fait son intéressant \, St-Amand de Coly\, FR
UID:20260712T200000Z-2087-hugo.mauk@gmail.com
URL:https://www.kumulus.fr
DTSTART;VALUE=DATE-TIME;TZID=GMT:20260712T200000Z
DTEND;VALUE=DATE-TIME;TZID=GMT:20260712T200000Z
DTSTAMP:20260420T045739Z
END:VEVENT
BEGIN:VEVENT
SUMMARY:Qui a tué mon père à La Rousse
DESCRIPTION:Notes: La Rousse France
LOCATION:La Rousse\, Niort\, FR
UID:20260718T200000Z-2086-hugo.mauk@gmail.com
URL:https://www.kumulus.fr
DTSTART;VALUE=DATE-TIME;TZID=GMT:20260718T200000Z
DTEND;VALUE=DATE-TIME;TZID=GMT:20260718T200000Z
DTSTAMP:20260420T045739Z
END:VEVENT
BEGIN:VEVENT
SUMMARY:Qui a tué mon père à Spectacles de Grands Chemins en Haute-Ariège
DESCRIPTION:Notes: Spectacles de Grands Chemins en Haute-Ariège France
LOCATION:Spectacles de Grands Chemins en Haute-Ariège\, Ax-les-Thermes\, FR
UID:20260730T190000Z-2085-hugo.mauk@gmail.com
URL:https://www.kumulus.fr
DTSTART;VALUE=DATE-TIME;TZID=GMT:20260730T190000Z
DTEND;VALUE=DATE-TIME;TZID=GMT:20260730T190000Z
DTSTAMP:20260420T045739Z
END:VEVENT
BEGIN:VEVENT
SUMMARY:Qui a tué mon père à Spectacles de Grands Chemins en Haute-Ariège
DESCRIPTION:Notes: Spectacles de Grands Chemins en Haute-Ariège France
LOCATION:Spectacles de Grands Chemins en Haute-Ariège\, Ax-les-Thermes\, FR
UID:20260731T190000Z-2084-hugo.mauk@gmail.com
URL:https://www.kumulus.fr
DTSTART;VALUE=DATE-TIME;TZID=GMT:20260731T190000Z
DTEND;VALUE=DATE-TIME;TZID=GMT:20260731T190000Z
DTSTAMP:20260420T045739Z
END:VEVENT
BEGIN:VEVENT
SUMMARY:Qui a tué mon père à Festival des Imaginaires Libres
DESCRIPTION:Notes: Festival des Imaginaires Libres France
LOCATION:Festival des Imaginaires Libres\, Taulignan\, FR
UID:20260814T190000Z-2083-hugo.mauk@gmail.com
URL:https://www.kumulus.fr
DTSTART;VALUE=DATE-TIME;TZID=GMT:20260814T190000Z
DTEND;VALUE=DATE-TIME;TZID=GMT:20260814T190000Z
DTSTAMP:20260420T045739Z
END:VEVENT
BEGIN:VEVENT
SUMMARY:Qui a tué mon père à Quelques P'Arts
DESCRIPTION:Notes: Quelques P'Arts France
LOCATION:Quelques P'Arts\, Boulieu-Les-Annonay\, FR
UID:20260925-2095-hugo.mauk@gmail.com
URL:https://www.kumulus.fr
DTSTART;VALUE=DATE;TZID=GMT:20260925
DTEND;VALUE=DATE;TZID=GMT:20260925
DTSTAMP:20260420T045739Z
END:VEVENT
BEGIN:VEVENT
SUMMARY:Qui a tué mon père à Quelques P'Arts
DESCRIPTION:Notes: Quelques P'Arts France
LOCATION:Quelques P'Arts\, Boulieu-Les-Annonay\, FR
UID:20260926-2094-hugo.mauk@gmail.com
URL:https://www.kumulus.fr
DTSTART;VALUE=DATE;TZID=GMT:20260926
DTEND;VALUE=DATE;TZID=GMT:20260926
DTSTAMP:20260420T045739Z
END:VEVENT
BEGIN:VEVENT
SUMMARY:Qui a tué mon père à La Gare à Coulisses
DESCRIPTION:Notes: La Gare à Coulisses France
LOCATION:La Gare à Coulisses\, Eurre\, FR
UID:20261204-2072-hugo.mauk@gmail.com
URL:https://www.kumulus.fr
DTSTART;VALUE=DATE;TZID=GMT:20261204
DTEND;VALUE=DATE;TZID=GMT:20261204
DTSTAMP:20260420T045739Z
END:VEVENT
END:VCALENDAR